BEGIN:VCALENDAR
VERSION:2.0
PRODID:icalendar-ruby
CALSCALE:GREGORIAN
METHOD:PUBLISH
BEGIN:VEVENT
DTSTAMP:20260420T050836Z
UID:437-892002@peninsulaunited.com
DTSTART:20260915T143000Z
DTEND:20260915T153000Z
CLASS:PUBLIC
CREATED:20260419T213149
DESCRIPTION:We are a small group of 4-12 people who gather for 20 minutes o
 f contemplative\, silent prayer followed by conversation. To learn about C
 entering Prayer\, watch this 8-minute introduction video by Thomas Keatin
 g.\nIf you would like to join in Centering Prayer followed by coffee and c
 onversation contact Anna Paton. 
LAST-MODIFIED:20260419T213149
LOCATION:127th Street Site
SUMMARY:Centering Prayer Coffee and Conversation
URL;VALUE=URI:https://www.peninsulaunited.com/events/centering-prayer-coffe
 e-and-conversation/2026-09-15
ATTACH;FILENAME=PUC Website Graphics (23).png;FMTTYPE=image/png:https://dq5
 pwpg1q8ru0.cloudfront.net/2024/08/23/17/15/09/97eb5671-ce6d-4533-88ec-e61e
 573da36e/PUC%20Website%20Graphics%20(23).png
END:VEVENT
END:VCALENDAR
