BEGIN:VCALENDAR
VERSION:2.0
PRODID:icalendar-ruby
CALSCALE:GREGORIAN
METHOD:PUBLISH
BEGIN:VEVENT
DTSTAMP:20260421T071847Z
UID:487-861381@peninsulaunited.com
DTSTART:20260430T200000Z
DTEND:20260430T213000Z
CLASS:PUBLIC
CREATED:20260409T125442
DESCRIPTION:Last Thursday of the Month | 1:00 – 2:30 PM | 127th Street Na
 rthex\n(Break during the summer months)\nIf you enjoy reading and are draw
 n to conversations that explore faith\, spirit\, and the deeper questions 
 of life\, the Spiritual Book Club may be a perfect fit.\nWe gather on the 
 last Thursday of each month from 1:00 to 2:30 PM in the Narthex at our 127
 th Street site. It’s a relaxed and welcoming space where curiosity\, que
 stions\, and insights are all welcome—whether you’ve read the whole bo
 ok or just a few pages.\nWe take a break over the summer and return in the
  fall with new titles and fresh conversations.\nNewcomers are always welco
 me. If you’re interested or have questions\, please contact the church o
 ffice—we’d love to hear from you.
LAST-MODIFIED:20260409T125442
LOCATION:127th Street Site
SUMMARY:Spiritual Book Club
URL;VALUE=URI:https://www.peninsulaunited.com/events/spiritual-book-club--4
 87/2026-04-30
ATTACH;FILENAME=Spiritual Book Club.png;FMTTYPE=image/png:https://dq5pwpg1q
 8ru0.cloudfront.net/2022/09/14/15/15/11/364dbabb-cbc6-4641-8c01-946a1a04fd
 72/Spiritual%20Book%20Club.png
END:VEVENT
END:VCALENDAR
