BEGIN:VCALENDAR
VERSION:2.0
PRODID:icalendar-ruby
CALSCALE:GREGORIAN
METHOD:PUBLISH
BEGIN:VEVENT
DTSTAMP:20260420T173713Z
UID:461-893602@peninsulaunited.com
DTSTART:20260913T170000Z
DTEND:20260913T180000Z
CLASS:PUBLIC
CREATED:20260420T081329
DESCRIPTION:Join us for Sunday Worship at 10:00 AM at our 127th Street Wors
 hip Site—in person or via live-stream on YouTube. Experience inspiring m
 usic\, meaningful reflection\, and a welcoming community.\n\nAfter worship
 \, you can join us for our in-person coffee hour! Everyone is welcome to s
 tay for a cup of coffee and conversation with others.\n\nLive-stream avail
 able on YouTube.\nTo view the bulletins click here.
LAST-MODIFIED:20260420T081329
LOCATION:127th Street Site
SUMMARY:Sunday Worship at Peninsula United Church
URL;VALUE=URI:https://www.peninsulaunited.com/events/sunday-worship-at-peni
 nsula-united-church/2026-09-13
ATTACH;FILENAME=All Music Sunday photo (2).jpeg;FMTTYPE=image/jpeg:https://
 dq5pwpg1q8ru0.cloudfront.net/2023/06/07/13/17/24/24dab028-601e-4436-bdbb-0
 c235f4992ff/All%20Music%20Sunday%20photo%20(2).jpeg
END:VEVENT
END:VCALENDAR
