BEGIN:VCALENDAR
VERSION:2.0
PRODID:icalendar-ruby
CALSCALE:GREGORIAN
METHOD:PUBLISH
BEGIN:VEVENT
DTSTAMP:20260424T023707Z
UID:753-904456@peninsulaunited.com
DTSTART:20261022T203000Z
DTEND:20261022T220000Z
CLASS:PUBLIC
CREATED:20260423T173700
DESCRIPTION:Join us on Thursdays at 1:30 PM  for a relaxed and thoughtful 
 conversation inspired by Sunday’s sermon. Bring a friend and enjoy  gre
 at company\, and meaningful discussion!\nWe’ll use the reflection questi
 ons from the “Second Glance” email to explore our insights and respons
 es\, and encourage one another in applying them to daily life.\nHaven’t 
 watched the service yet? No problem—everyone is welcome!\n \nRSVP appre
 ciated.\nPlease contact Jean Kromm\, and she will save you a seat.
LAST-MODIFIED:20260423T173700
LOCATION:
SUMMARY:Take A Second Glance (Thursday)
URL;VALUE=URI:https://www.peninsulaunited.com/events/take-a-second-glance-t
 hursday/2026-10-22
ATTACH;FILENAME=Thursday Second Glance Group.png;FMTTYPE=image/png:https://
 dq5pwpg1q8ru0.cloudfront.net/2025/09/19/18/30/43/2d6052bc-df71-4d52-ad1a-b
 106005b0243/Thursday%20Second%20Glance%20Group.png
END:VEVENT
END:VCALENDAR
